Workbook

Sheet профлист , штак 
B1: ПРОФНАСТИЛ
B2: наименование профиля | C2: внешний вид | D2: размеры | E2: покрытие | F2: цена профнастила, м2
F3: толщина профнастила, мм
F4: 0.35 | G4: 0.4 | H4: 0.45 | I4: 0.45 | J4: 0.45 | K4: 0.45 | L4: 0.45 | M4: 0.5 | N4: 0.65 | O4: 0.7
B5: С-8 | E5: цинк | F5: 393.23422 | G5: 422.44569 | H5: 434.73306 | M5: 470.6678 | N5: 582.64511 | O5: 617.18884
E6: Полимерное покрытие односторонеее | F6: 458.1486 | G6: 489.21477 | H6: 536.97321
E7: Полимерное покрытие двухстороннее (8017, 7024) | H7: 591.22309
B8: МП-20 | E8: цинк | F8: 410.33136 | G8: 440.81289 | H8: 453.63449 | M8: 491.13162 | N8: 607.97751 | O8: 644.02314
E9: Полимерное покрытие | F9: 478.0681 | G9: 510.48498 | H9: 560.31987
E10: Полимерное покрытие двухстороннее (8017, 7024) | H10: 616.92844
B11: МЕТАЛЛИЧЕСКИЙ ШТАКЕТНИК
B12: наименование профиля | C12: внешний вид | D12: размеры | E12: покрытие | F12: цена металлического штакетника, м2
F13: толщина штакетника, мм
F14: 0.35 | G14: 0.4 | H14: 0.45 | I14: 0.5 | J14: 0.55 | K14: 0.65 | L14: 0.7
B15: КАНТРИ-100 | E15: цинк | F15: 66.063348 | G15: 70.970876 | H15: 73.035153
E16: Полимерное покрытие | F16: 76.968965 | G16: 82.188081 | H16: 90.211499
E17: Полимерное покрытие двухстороннее (8017, 7024) | H17: 99.325479
B18: П-ОБРАЗНЫЙ -90 | E18: цинк | F18: 66.063348 | G18: 70.970876 | H18: 73.035153
E19: Полимерное покрытие | F19: 76.968965 | G19: 82.188081 | H19: 90.211499
E20: Полимерное покрытие двухстороннее (8017, 7024) | H20: 99.325479
B21: ТРАПЕЦИЯ-120 | E21: цинк | F21: 82.447059 | G21: 88.571653 | H21: 91.147871
E22: Полимерное покрытие | F22: 96.057268 | G22: 102.57073 | H22: 112.58395
E23: Полимерное покрытие двухстороннее (8017, 7024) | H23: 123.9582
B24: ЖАЛЮЗИ | E24: цинк | F24: 66.063348 | G24: 70.970876 | H24: 73.035153
E25: Полимерное покрытие | F25: 76.968965 | G25: 82.188081 | H25: 90.211499
E26: Полимерное покрытие двухстороннее (8017, 7024) | H26: 99.325479
B29: СНЕГОДЕРЖАТЕЛИ
B31: МЕТАЛЛОЧЕРЕПИЦА

Sheet рассчеты 
A1: штакетник | B1: Длина забора (М.П.) | C1: шаг между штакетником | D1: Количество штакетника
A2: КАНТРИ-100 | B2: 25 | C2: 50 | D2: =B2*1000/(100+C2)+1 -> 167.66667
A5: П-ОБРАЗНЫЙ -90 | B5: =B2 -> 25 | C5: =C2 -> 50 | D5: =B5*1000/(90+C5)+1 -> 179.57143
A8: ТРАПЕЦИЯ-120 | B8: =B2 -> 25 | C8: =C2 -> 50 | D8: =B8*1000/(120+C8)+1 -> 148.05882

Sheet столбы и лаги для забора
A1: Столбы с приварным кронштейном /навесом (под дверь)
A2: Труба новая | B2: высота
B3: 2 | D3: 2.5 | F3: 3
A4: квадратная | B4: грунт | C4: полимер | D4: грунт | E4: полимер | F4: грунт | G4: полимер
A5: 60*60/2,0 | B5: ='[1]столбы='!Q5 -> 1756.5413 | C5: ='[1]столбы='!S5 -> 2317.5095 | D5: ='[1]столбы='!Q14 -> 1994.6231 | E5: ='[1]столбы='!S14 -> 2575.0313 | F5: ='[1]столбы='!Q23 -> 2232.7048 | G5: ='[1]столбы='!S23 -> 2832.553
A6: 60*60/3,0 | B6: ='[1]столбы='!Q6 -> 2256.8185 | C6: ='[1]столбы='!S6 -> 2817.7867 | D6: ='[1]столбы='!Q15 -> 2619.9696 | E6: ='[1]столбы='!S15 -> 3200.3778 | F6: ='[1]столбы='!Q24 -> 2983.1207 | G6: ='[1]столбы='!S24 -> 3582.9689
A7: 80*80/3,0 | B7: ='[1]столбы='!Q7 -> 2740.7279 | C7: ='[1]столбы='!S7 -> 3194.885 | D7: ='[1]столбы='!Q16 -> 3201.0893 | E7: ='[1]столбы='!S16 -> 3668.2064 | F7: ='[1]столбы='!Q25 -> 3661.4507 | G7: ='[1]столбы='!S25 -> 4141.5278
A8: 100*100/4,0 | B8: ='[1]столбы='!Q8 -> 6826.8626 | C8: ='[1]столбы='!S8 -> 7334.954 | D8: ='[1]столбы='!Q17 -> 8290.4831 | E8: ='[1]столбы='!S17 -> 8805.0545 | F8: ='[1]столбы='!Q26 -> 9754.1036 | G8: ='[1]столбы='!S26 -> 10275.155
A9: круглая
A10: 57/3,0 | B10: ='[1]столбы='!Q9 -> 2010.7677 | C10: ='[1]столбы='!S9 -> 2551.9654 | D10: ='[1]столбы='!Q18 -> 2272.5131 | E10: ='[1]столбы='!S18 -> 2828.2082 | F10: ='[1]столбы='!Q27 -> 2534.2585 | G10: ='[1]столбы='!S27 -> 3104.451
A11: 76/3,0 | B11: ='[1]столбы='!Q10 -> 2387.8718 | C11: ='[1]столбы='!S10 -> 2953.376 | D11: ='[1]столбы='!Q19 -> 2742.0038 | E11: ='[1]столбы='!S19 -> 3327.8552 | F11: ='[1]столбы='!Q28 -> 3096.1358 | G11: ='[1]столбы='!S28 -> 3702.3344
A12: Столбы под съемный кронштейн
B13: 2 | D13: 2.5 | F13: 3
A14: квадратная | B14: грунт | C14: полимер | D14: грунт | E14: полимер | F14: грунт | G14: полимер
A15: 60*60/2,0 | B15: ='[1]столбы='!Q32 -> 1444.3438 | C15: ='[1]столбы='!S32 -> 2005.312 | D15: ='[1]столбы='!Q42 -> 1682.4256 | E15: ='[1]столбы='!S42 -> 2262.8338 | F15: ='[1]столбы='!Q52 -> 1920.5073 | G15: ='[1]столбы='!S33 -> 2505.5892
A16: 60*60/3,0 | B16: ='[1]столбы='!Q33 -> 1944.621 | C16: ='[1]столбы='!S33 -> 2505.5892 | D16: ='[1]столбы='!Q43 -> 2307.7721 | E16: ='[1]столбы='!S43 -> 2888.1803 | F16: ='[1]столбы='!Q53 -> 2670.9232 | G16: ='[1]столбы='!S34 -> 2882.6875
A17: 80*80/3,0 | B17: ='[1]столбы='!Q34 -> 2348.0929 | C17: ='[1]столбы='!S34 -> 2882.6875 | D17: ='[1]столбы='!Q44 -> 2808.4543 | E17: ='[1]столбы='!S44 -> 3356.0089 | F17: ='[1]столбы='!Q54 -> 3268.8157 | G17: ='[1]столбы='!S35 -> 7103.194
A18: 100*100/4,0 | B18: ='[1]столбы='!Q35 -> 6595.1026 | C18: ='[1]столбы='!S35 -> 7103.194 | D18: ='[1]столбы='!Q45 -> 8058.7231 | E18: ='[1]столбы='!S45 -> 8573.2945 | F18: ='[1]столбы='!Q55 -> 9522.3436 | G18: ='[1]столбы='!S36 -> 2320.2054
A19: круглая
A20: 57/3,0 | B20: ='[1]столбы='!Q36 -> 1779.0077 | C20: ='[1]столбы='!S36 -> 2320.2054 | D20: ='[1]столбы='!Q46 -> 2040.7531 | E20: ='[1]столбы='!S46 -> 2596.4482 | F20: ='[1]столбы='!Q56 -> 2302.4985 | G20: ='[1]столбы='!S56 -> 2872.6909
A21: 76/3,0 | B21: ='[1]столбы='!Q37 -> 2156.1118 | C21: ='[1]столбы='!S37 -> 2721.616 | D21: ='[1]столбы='!Q47 -> 2510.2438 | E21: ='[1]столбы='!S47 -> 3096.0952 | F21: ='[1]столбы='!Q57 -> 2864.3758 | G21: ='[1]столбы='!S57 -> 3470.5744
A22: Лаги (прожилины)
A23: 40*20/1,5 | B23: =[1]Лаги!M5 -> 784.01502 | C23: =[1]Лаги!O5 -> 903.33252 | D23: =[1]Лаги!M8 -> 879.4719 | E23: =[1]Лаги!O8 -> 1008.5094 | F23: =[1]Лаги!M11 -> 974.92878 | G23: =[1]Лаги!O11 -> 1113.6863
A24: 40*20/2,0 | B24: =[1]Лаги!M6 -> 941.09325 | C24: =[1]Лаги!O6 -> 1060.4108 | D24: =[1]Лаги!M9 -> 1075.8197 | E24: =[1]Лаги!O9 -> 1204.8572 | F24: =[1]Лаги!M12 -> 1210.5461 | G24: =[1]Лаги!O12 -> 1349.3036
A25: Кронштейны для крепления лаг к столбу
B26: оцинк | C26: полимер
A27: 60*60/2,0 | B27: =[1]кронштейн!K12 -> 271.44206 | C27: =[1]кронштейн!K5 -> 433.65568
A28: 80*80/2,0 | B28: =[1]кронштейн!K14 -> 283.84906 | C28: =[1]кронштейн!K7 -> 444.80573
A29: 100*100/2,0 | B29: =[1]кронштейн!K16 -> 296.25606 | C29: =[1]кронштейн!K9 -> 455.95577
A30: СЕКЦИИ ДЛЯ ВАЛЬЕРОВ
A31: СЕКЦИИ С УГОЛКОМ ПО ПЕРИМЕТРУ | D31: СЕКЦИИ НА ЛАГАХ (КРАПЕЖ Ч/З КРОНШТЕЙНЫ)
A32: ШИРИНА*ВЫСОТА | B32: ГРУНТ | C32: ПОЛИМЕР | D32: ШИРИНА*ВЫСОТА | F32: ГРУНТ | G32: ПОЛИМЕР
A33: 2,0*1,5 | B33: ='[1]ВАЛЬЕР УГОЛК ПО ПЕРИМЕТРУ '!AI4 -> 9629.1998 | C33: ='[1]ВАЛЬЕР УГОЛК ПО ПЕРИМЕТРУ '!AK4 -> 11313.118 | D33: 2,0*1,5 | F33: ='[1]ВАЛЬЕР НА ЛАГАХ'!AE4 -> 9332.829 | G33: ='[1]ВАЛЬЕР НА ЛАГАХ'!AG4 -> 10962.891
A34: 2,0*2,0 | B34: ='[1]ВАЛЬЕР УГОЛК ПО ПЕРИМЕТРУ '!AI5 -> 11267.941 | C34: ='[1]ВАЛЬЕР УГОЛК ПО ПЕРИМЕТРУ '!AK5 -> 13480.525 | D34: 2,0*2,0 | F34: ='[1]ВАЛЬЕР НА ЛАГАХ'!AE5 -> 10786.997 | G34: ='[1]ВАЛЬЕР НА ЛАГАХ'!AG5 -> 12921.245
A35: 2,5*1,5 | B35: ='[1]ВАЛЬЕР УГОЛК ПО ПЕРИМЕТРУ '!AI6 -> 11859.031 | C35: ='[1]ВАЛЬЕР УГОЛК ПО ПЕРИМЕТРУ '!AK6 -> 13951.077 | D35: 2,5*1,5 | F35: ='[1]ВАЛЬЕР НА ЛАГАХ'!AE6 -> 11690.811 | G35: ='[1]ВАЛЬЕР НА ЛАГАХ'!AG6 -> 13733.897
A36: 2,5*2,0 | B36: ='[1]ВАЛЬЕР УГОЛК ПО ПЕРИМЕТРУ '!AI7 -> 13875.65 | C36: ='[1]ВАЛЬЕР УГОЛК ПО ПЕРИМЕТРУ '!AK7 -> 16624.244 | D36: 2,5*2,0 | F36: ='[1]ВАЛЬЕР НА ЛАГАХ'!AE7 -> 13522.856 | G36: ='[1]ВАЛЬЕР НА ЛАГАХ'!AG7 -> 16198.01
A37: 3,0*1,5 | B37: ='[1]ВАЛЬЕР УГОЛК ПО ПЕРИМЕТРУ '!AI8 -> 14088.862 | C37: ='[1]ВАЛЬЕР УГОЛК ПО ПЕРИМЕТРУ '!AK8 -> 16589.035 | D37: 3,0*1,5 | F37: ='[1]ВАЛЬЕР НА ЛАГАХ'!AE8 -> 14048.793 | G37: ='[1]ВАЛЬЕР НА ЛАГАХ'!AG8 -> 16504.902
A38: 3,0*2,0 | B38: ='[1]ВАЛЬЕР УГОЛК ПО ПЕРИМЕТРУ '!AI9 -> 16483.358 | C38: ='[1]ВАЛЬЕР УГОЛК ПО ПЕРИМЕТРУ '!AK9 -> 19767.962 | D38: 3,0*2,0 | F38: ='[1]ВАЛЬЕР НА ЛАГАХ'!AE9 -> 16258.716 | G38: ='[1]ВАЛЬЕР НА ЛАГАХ'!AG9 -> 19474.776
A39: СЕКЦИЯ С ДВЕРЬЮ | D39: ДВЕРЬ
A40: 2,5*2,0 | B40: ='[1]ВАЛЬЕР УГОЛК ПО ПЕРИМЕТРУ '!AI11 -> 18129.672 | C40: ='[1]ВАЛЬЕР УГОЛК ПО ПЕРИМЕТРУ '!AK11 -> 20976.186 | D40: 0,8*1,5 | F40: ='[1]ВАЛЬЕР НА ЛАГАХ'!AE11 -> 6116.5935 | G40: ='[1]ВАЛЬЕР НА ЛАГАХ'!AG11 -> 6384.5271
A41: 3,0*2,0 | B41: ='[1]ВАЛЬЕР УГОЛК ПО ПЕРИМЕТРУ '!AI12 -> 19461.106 | C41: ='[1]ВАЛЬЕР УГОЛК ПО ПЕРИМЕТРУ '!AK12 -> 22478.98 | D41: 0,8*2,0 | F41: ='[1]ВАЛЬЕР НА ЛАГАХ'!AE12 -> 6751.9828 | G41: ='[1]ВАЛЬЕР НА ЛАГАХ'!AG12 -> 7132.7284
